BEGIN:VCALENDAR
VERSION:2.0
PRODID:-//ATCEV - ECPv6.15.19//NONSGML v1.0//EN
CALSCALE:GREGORIAN
METHOD:PUBLISH
X-WR-CALNAME:ATCEV
X-ORIGINAL-URL:https://www.atcev.org
X-WR-CALDESC:Events for ATCEV
REFRESH-INTERVAL;VALUE=DURATION:PT1H
X-Robots-Tag:noindex
X-PUBLISHED-TTL:PT1H
BEGIN:VTIMEZONE
TZID:America/New_York
BEGIN:DAYLIGHT
TZOFFSETFROM:-0500
TZOFFSETTO:-0400
TZNAME:EDT
DTSTART:20260308T070000
END:DAYLIGHT
BEGIN:STANDARD
TZOFFSETFROM:-0400
TZOFFSETTO:-0500
TZNAME:EST
DTSTART:20261101T060000
END:STANDARD
BEGIN:DAYLIGHT
TZOFFSETFROM:-0500
TZOFFSETTO:-0400
TZNAME:EDT
DTSTART:20270314T070000
END:DAYLIGHT
BEGIN:STANDARD
TZOFFSETFROM:-0400
TZOFFSETTO:-0500
TZNAME:EST
DTSTART:20271107T060000
END:STANDARD
BEGIN:DAYLIGHT
TZOFFSETFROM:-0500
TZOFFSETTO:-0400
TZNAME:EDT
DTSTART:20280312T070000
END:DAYLIGHT
BEGIN:STANDARD
TZOFFSETFROM:-0400
TZOFFSETTO:-0500
TZNAME:EST
DTSTART:20281105T060000
END:STANDARD
BEGIN:DAYLIGHT
TZOFFSETFROM:-0500
TZOFFSETTO:-0400
TZNAME:EDT
DTSTART:20290311T070000
END:DAYLIGHT
BEGIN:STANDARD
TZOFFSETFROM:-0400
TZOFFSETTO:-0500
TZNAME:EST
DTSTART:20291104T060000
END:STANDARD
END:VTIMEZONE
BEGIN:VEVENT
DTSTART;TZID=America/New_York:20270616T180000
DTEND;TZID=America/New_York:20270616T200000
DTSTAMP:20260420T100541
CREATED:20231128T213613Z
LAST-MODIFIED:20240802T181356Z
UID:10002356-1813168800-1813176000@www.atcev.org
SUMMARY:Men's Talking Circle
DESCRIPTION:Join the Seven Dancers Coalition for the Men’s Talking Circle that happens every Wednesday. For the most up-to-date information on this event please contact the Seven Dancers Coalition.
URL:https://www.atcev.org/event/mens-talking-circle/2027-06-16/
LOCATION:Seven Dancers Coalition- Akwesasne\, 1569 State Route 37\, Akwesasne\, NY\, 13655\, United States
CATEGORIES:In-Person
ATTACH;FMTTYPE=image/jpeg:https://www.atcev.org/wp-content/uploads/2023/11/Seven-Dancers-Mens-Talking-Circle-Wednesdays.jpg
ORGANIZER;CN="Seven Dancers Coalition":MAILTO:info@seven-dancers.com
END:VEVENT
BEGIN:VEVENT
DTSTART;TZID=America/New_York:20270623T180000
DTEND;TZID=America/New_York:20270623T200000
DTSTAMP:20260420T100542
CREATED:20231128T213613Z
LAST-MODIFIED:20240802T181356Z
UID:10002357-1813773600-1813780800@www.atcev.org
SUMMARY:Men's Talking Circle
DESCRIPTION:Join the Seven Dancers Coalition for the Men’s Talking Circle that happens every Wednesday. For the most up-to-date information on this event please contact the Seven Dancers Coalition.
URL:https://www.atcev.org/event/mens-talking-circle/2027-06-23/
LOCATION:Seven Dancers Coalition- Akwesasne\, 1569 State Route 37\, Akwesasne\, NY\, 13655\, United States
CATEGORIES:In-Person
ATTACH;FMTTYPE=image/jpeg:https://www.atcev.org/wp-content/uploads/2023/11/Seven-Dancers-Mens-Talking-Circle-Wednesdays.jpg
ORGANIZER;CN="Seven Dancers Coalition":MAILTO:info@seven-dancers.com
END:VEVENT
BEGIN:VEVENT
DTSTART;TZID=America/New_York:20270630T180000
DTEND;TZID=America/New_York:20270630T200000
DTSTAMP:20260420T100542
CREATED:20231128T213613Z
LAST-MODIFIED:20240802T181356Z
UID:10002358-1814378400-1814385600@www.atcev.org
SUMMARY:Men's Talking Circle
DESCRIPTION:Join the Seven Dancers Coalition for the Men’s Talking Circle that happens every Wednesday. For the most up-to-date information on this event please contact the Seven Dancers Coalition.
URL:https://www.atcev.org/event/mens-talking-circle/2027-06-30/
LOCATION:Seven Dancers Coalition- Akwesasne\, 1569 State Route 37\, Akwesasne\, NY\, 13655\, United States
CATEGORIES:In-Person
ATTACH;FMTTYPE=image/jpeg:https://www.atcev.org/wp-content/uploads/2023/11/Seven-Dancers-Mens-Talking-Circle-Wednesdays.jpg
ORGANIZER;CN="Seven Dancers Coalition":MAILTO:info@seven-dancers.com
END:VEVENT
BEGIN:VEVENT
DTSTART;TZID=America/New_York:20270707T180000
DTEND;TZID=America/New_York:20270707T200000
DTSTAMP:20260420T100542
CREATED:20231128T213613Z
LAST-MODIFIED:20240802T181356Z
UID:10002359-1814983200-1814990400@www.atcev.org
SUMMARY:Men's Talking Circle
DESCRIPTION:Join the Seven Dancers Coalition for the Men’s Talking Circle that happens every Wednesday. For the most up-to-date information on this event please contact the Seven Dancers Coalition.
URL:https://www.atcev.org/event/mens-talking-circle/2027-07-07/
LOCATION:Seven Dancers Coalition- Akwesasne\, 1569 State Route 37\, Akwesasne\, NY\, 13655\, United States
CATEGORIES:In-Person
ATTACH;FMTTYPE=image/jpeg:https://www.atcev.org/wp-content/uploads/2023/11/Seven-Dancers-Mens-Talking-Circle-Wednesdays.jpg
ORGANIZER;CN="Seven Dancers Coalition":MAILTO:info@seven-dancers.com
END:VEVENT
BEGIN:VEVENT
DTSTART;TZID=America/New_York:20270714T180000
DTEND;TZID=America/New_York:20270714T200000
DTSTAMP:20260420T100542
CREATED:20231128T213613Z
LAST-MODIFIED:20240802T181356Z
UID:10002360-1815588000-1815595200@www.atcev.org
SUMMARY:Men's Talking Circle
DESCRIPTION:Join the Seven Dancers Coalition for the Men’s Talking Circle that happens every Wednesday. For the most up-to-date information on this event please contact the Seven Dancers Coalition.
URL:https://www.atcev.org/event/mens-talking-circle/2027-07-14/
LOCATION:Seven Dancers Coalition- Akwesasne\, 1569 State Route 37\, Akwesasne\, NY\, 13655\, United States
CATEGORIES:In-Person
ATTACH;FMTTYPE=image/jpeg:https://www.atcev.org/wp-content/uploads/2023/11/Seven-Dancers-Mens-Talking-Circle-Wednesdays.jpg
ORGANIZER;CN="Seven Dancers Coalition":MAILTO:info@seven-dancers.com
END:VEVENT
BEGIN:VEVENT
DTSTART;TZID=America/New_York:20270721T180000
DTEND;TZID=America/New_York:20270721T200000
DTSTAMP:20260420T100542
CREATED:20231128T213613Z
LAST-MODIFIED:20240802T181356Z
UID:10002361-1816192800-1816200000@www.atcev.org
SUMMARY:Men's Talking Circle
DESCRIPTION:Join the Seven Dancers Coalition for the Men’s Talking Circle that happens every Wednesday. For the most up-to-date information on this event please contact the Seven Dancers Coalition.
URL:https://www.atcev.org/event/mens-talking-circle/2027-07-21/
LOCATION:Seven Dancers Coalition- Akwesasne\, 1569 State Route 37\, Akwesasne\, NY\, 13655\, United States
CATEGORIES:In-Person
ATTACH;FMTTYPE=image/jpeg:https://www.atcev.org/wp-content/uploads/2023/11/Seven-Dancers-Mens-Talking-Circle-Wednesdays.jpg
ORGANIZER;CN="Seven Dancers Coalition":MAILTO:info@seven-dancers.com
END:VEVENT
BEGIN:VEVENT
DTSTART;TZID=America/New_York:20270728T180000
DTEND;TZID=America/New_York:20270728T200000
DTSTAMP:20260420T100542
CREATED:20231128T213613Z
LAST-MODIFIED:20240802T181356Z
UID:10002362-1816797600-1816804800@www.atcev.org
SUMMARY:Men's Talking Circle
DESCRIPTION:Join the Seven Dancers Coalition for the Men’s Talking Circle that happens every Wednesday. For the most up-to-date information on this event please contact the Seven Dancers Coalition.
URL:https://www.atcev.org/event/mens-talking-circle/2027-07-28/
LOCATION:Seven Dancers Coalition- Akwesasne\, 1569 State Route 37\, Akwesasne\, NY\, 13655\, United States
CATEGORIES:In-Person
ATTACH;FMTTYPE=image/jpeg:https://www.atcev.org/wp-content/uploads/2023/11/Seven-Dancers-Mens-Talking-Circle-Wednesdays.jpg
ORGANIZER;CN="Seven Dancers Coalition":MAILTO:info@seven-dancers.com
END:VEVENT
BEGIN:VEVENT
DTSTART;TZID=America/New_York:20270804T180000
DTEND;TZID=America/New_York:20270804T200000
DTSTAMP:20260420T100542
CREATED:20231128T213613Z
LAST-MODIFIED:20240802T181356Z
UID:10002363-1817402400-1817409600@www.atcev.org
SUMMARY:Men's Talking Circle
DESCRIPTION:Join the Seven Dancers Coalition for the Men’s Talking Circle that happens every Wednesday. For the most up-to-date information on this event please contact the Seven Dancers Coalition.
URL:https://www.atcev.org/event/mens-talking-circle/2027-08-04/
LOCATION:Seven Dancers Coalition- Akwesasne\, 1569 State Route 37\, Akwesasne\, NY\, 13655\, United States
CATEGORIES:In-Person
ATTACH;FMTTYPE=image/jpeg:https://www.atcev.org/wp-content/uploads/2023/11/Seven-Dancers-Mens-Talking-Circle-Wednesdays.jpg
ORGANIZER;CN="Seven Dancers Coalition":MAILTO:info@seven-dancers.com
END:VEVENT
BEGIN:VEVENT
DTSTART;TZID=America/New_York:20270811T180000
DTEND;TZID=America/New_York:20270811T200000
DTSTAMP:20260420T100542
CREATED:20231128T213613Z
LAST-MODIFIED:20240802T181356Z
UID:10002364-1818007200-1818014400@www.atcev.org
SUMMARY:Men's Talking Circle
DESCRIPTION:Join the Seven Dancers Coalition for the Men’s Talking Circle that happens every Wednesday. For the most up-to-date information on this event please contact the Seven Dancers Coalition.
URL:https://www.atcev.org/event/mens-talking-circle/2027-08-11/
LOCATION:Seven Dancers Coalition- Akwesasne\, 1569 State Route 37\, Akwesasne\, NY\, 13655\, United States
CATEGORIES:In-Person
ATTACH;FMTTYPE=image/jpeg:https://www.atcev.org/wp-content/uploads/2023/11/Seven-Dancers-Mens-Talking-Circle-Wednesdays.jpg
ORGANIZER;CN="Seven Dancers Coalition":MAILTO:info@seven-dancers.com
END:VEVENT
BEGIN:VEVENT
DTSTART;TZID=America/New_York:20270818T180000
DTEND;TZID=America/New_York:20270818T200000
DTSTAMP:20260420T100542
CREATED:20231128T213613Z
LAST-MODIFIED:20240802T181356Z
UID:10002365-1818612000-1818619200@www.atcev.org
SUMMARY:Men's Talking Circle
DESCRIPTION:Join the Seven Dancers Coalition for the Men’s Talking Circle that happens every Wednesday. For the most up-to-date information on this event please contact the Seven Dancers Coalition.
URL:https://www.atcev.org/event/mens-talking-circle/2027-08-18/
LOCATION:Seven Dancers Coalition- Akwesasne\, 1569 State Route 37\, Akwesasne\, NY\, 13655\, United States
CATEGORIES:In-Person
ATTACH;FMTTYPE=image/jpeg:https://www.atcev.org/wp-content/uploads/2023/11/Seven-Dancers-Mens-Talking-Circle-Wednesdays.jpg
ORGANIZER;CN="Seven Dancers Coalition":MAILTO:info@seven-dancers.com
END:VEVENT
BEGIN:VEVENT
DTSTART;TZID=America/New_York:20270825T180000
DTEND;TZID=America/New_York:20270825T200000
DTSTAMP:20260420T100542
CREATED:20231128T213613Z
LAST-MODIFIED:20240802T181356Z
UID:10002366-1819216800-1819224000@www.atcev.org
SUMMARY:Men's Talking Circle
DESCRIPTION:Join the Seven Dancers Coalition for the Men’s Talking Circle that happens every Wednesday. For the most up-to-date information on this event please contact the Seven Dancers Coalition.
URL:https://www.atcev.org/event/mens-talking-circle/2027-08-25/
LOCATION:Seven Dancers Coalition- Akwesasne\, 1569 State Route 37\, Akwesasne\, NY\, 13655\, United States
CATEGORIES:In-Person
ATTACH;FMTTYPE=image/jpeg:https://www.atcev.org/wp-content/uploads/2023/11/Seven-Dancers-Mens-Talking-Circle-Wednesdays.jpg
ORGANIZER;CN="Seven Dancers Coalition":MAILTO:info@seven-dancers.com
END:VEVENT
BEGIN:VEVENT
DTSTART;TZID=America/New_York:20270901T180000
DTEND;TZID=America/New_York:20270901T200000
DTSTAMP:20260420T100542
CREATED:20231128T213613Z
LAST-MODIFIED:20240802T181356Z
UID:10002367-1819821600-1819828800@www.atcev.org
SUMMARY:Men's Talking Circle
DESCRIPTION:Join the Seven Dancers Coalition for the Men’s Talking Circle that happens every Wednesday. For the most up-to-date information on this event please contact the Seven Dancers Coalition.
URL:https://www.atcev.org/event/mens-talking-circle/2027-09-01/
LOCATION:Seven Dancers Coalition- Akwesasne\, 1569 State Route 37\, Akwesasne\, NY\, 13655\, United States
CATEGORIES:In-Person
ATTACH;FMTTYPE=image/jpeg:https://www.atcev.org/wp-content/uploads/2023/11/Seven-Dancers-Mens-Talking-Circle-Wednesdays.jpg
ORGANIZER;CN="Seven Dancers Coalition":MAILTO:info@seven-dancers.com
END:VEVENT
BEGIN:VEVENT
DTSTART;TZID=America/New_York:20270908T180000
DTEND;TZID=America/New_York:20270908T200000
DTSTAMP:20260420T100542
CREATED:20231128T213613Z
LAST-MODIFIED:20240802T181356Z
UID:10002368-1820426400-1820433600@www.atcev.org
SUMMARY:Men's Talking Circle
DESCRIPTION:Join the Seven Dancers Coalition for the Men’s Talking Circle that happens every Wednesday. For the most up-to-date information on this event please contact the Seven Dancers Coalition.
URL:https://www.atcev.org/event/mens-talking-circle/2027-09-08/
LOCATION:Seven Dancers Coalition- Akwesasne\, 1569 State Route 37\, Akwesasne\, NY\, 13655\, United States
CATEGORIES:In-Person
ATTACH;FMTTYPE=image/jpeg:https://www.atcev.org/wp-content/uploads/2023/11/Seven-Dancers-Mens-Talking-Circle-Wednesdays.jpg
ORGANIZER;CN="Seven Dancers Coalition":MAILTO:info@seven-dancers.com
END:VEVENT
BEGIN:VEVENT
DTSTART;TZID=America/New_York:20270915T180000
DTEND;TZID=America/New_York:20270915T200000
DTSTAMP:20260420T100542
CREATED:20231128T213613Z
LAST-MODIFIED:20240802T181356Z
UID:10002369-1821031200-1821038400@www.atcev.org
SUMMARY:Men's Talking Circle
DESCRIPTION:Join the Seven Dancers Coalition for the Men’s Talking Circle that happens every Wednesday. For the most up-to-date information on this event please contact the Seven Dancers Coalition.
URL:https://www.atcev.org/event/mens-talking-circle/2027-09-15/
LOCATION:Seven Dancers Coalition- Akwesasne\, 1569 State Route 37\, Akwesasne\, NY\, 13655\, United States
CATEGORIES:In-Person
ATTACH;FMTTYPE=image/jpeg:https://www.atcev.org/wp-content/uploads/2023/11/Seven-Dancers-Mens-Talking-Circle-Wednesdays.jpg
ORGANIZER;CN="Seven Dancers Coalition":MAILTO:info@seven-dancers.com
END:VEVENT
BEGIN:VEVENT
DTSTART;TZID=America/New_York:20270922T180000
DTEND;TZID=America/New_York:20270922T200000
DTSTAMP:20260420T100542
CREATED:20231128T213613Z
LAST-MODIFIED:20240802T181356Z
UID:10002370-1821636000-1821643200@www.atcev.org
SUMMARY:Men's Talking Circle
DESCRIPTION:Join the Seven Dancers Coalition for the Men’s Talking Circle that happens every Wednesday. For the most up-to-date information on this event please contact the Seven Dancers Coalition.
URL:https://www.atcev.org/event/mens-talking-circle/2027-09-22/
LOCATION:Seven Dancers Coalition- Akwesasne\, 1569 State Route 37\, Akwesasne\, NY\, 13655\, United States
CATEGORIES:In-Person
ATTACH;FMTTYPE=image/jpeg:https://www.atcev.org/wp-content/uploads/2023/11/Seven-Dancers-Mens-Talking-Circle-Wednesdays.jpg
ORGANIZER;CN="Seven Dancers Coalition":MAILTO:info@seven-dancers.com
END:VEVENT
BEGIN:VEVENT
DTSTART;TZID=America/New_York:20270929T180000
DTEND;TZID=America/New_York:20270929T200000
DTSTAMP:20260420T100542
CREATED:20231128T213613Z
LAST-MODIFIED:20240802T181356Z
UID:10002371-1822240800-1822248000@www.atcev.org
SUMMARY:Men's Talking Circle
DESCRIPTION:Join the Seven Dancers Coalition for the Men’s Talking Circle that happens every Wednesday. For the most up-to-date information on this event please contact the Seven Dancers Coalition.
URL:https://www.atcev.org/event/mens-talking-circle/2027-09-29/
LOCATION:Seven Dancers Coalition- Akwesasne\, 1569 State Route 37\, Akwesasne\, NY\, 13655\, United States
CATEGORIES:In-Person
ATTACH;FMTTYPE=image/jpeg:https://www.atcev.org/wp-content/uploads/2023/11/Seven-Dancers-Mens-Talking-Circle-Wednesdays.jpg
ORGANIZER;CN="Seven Dancers Coalition":MAILTO:info@seven-dancers.com
END:VEVENT
BEGIN:VEVENT
DTSTART;TZID=America/New_York:20271006T180000
DTEND;TZID=America/New_York:20271006T200000
DTSTAMP:20260420T100542
CREATED:20231128T213613Z
LAST-MODIFIED:20240802T181356Z
UID:10002372-1822845600-1822852800@www.atcev.org
SUMMARY:Men's Talking Circle
DESCRIPTION:Join the Seven Dancers Coalition for the Men’s Talking Circle that happens every Wednesday. For the most up-to-date information on this event please contact the Seven Dancers Coalition.
URL:https://www.atcev.org/event/mens-talking-circle/2027-10-06/
LOCATION:Seven Dancers Coalition- Akwesasne\, 1569 State Route 37\, Akwesasne\, NY\, 13655\, United States
CATEGORIES:In-Person
ATTACH;FMTTYPE=image/jpeg:https://www.atcev.org/wp-content/uploads/2023/11/Seven-Dancers-Mens-Talking-Circle-Wednesdays.jpg
ORGANIZER;CN="Seven Dancers Coalition":MAILTO:info@seven-dancers.com
END:VEVENT
BEGIN:VEVENT
DTSTART;TZID=America/New_York:20271013T180000
DTEND;TZID=America/New_York:20271013T200000
DTSTAMP:20260420T100542
CREATED:20231128T213613Z
LAST-MODIFIED:20240802T181356Z
UID:10002373-1823450400-1823457600@www.atcev.org
SUMMARY:Men's Talking Circle
DESCRIPTION:Join the Seven Dancers Coalition for the Men’s Talking Circle that happens every Wednesday. For the most up-to-date information on this event please contact the Seven Dancers Coalition.
URL:https://www.atcev.org/event/mens-talking-circle/2027-10-13/
LOCATION:Seven Dancers Coalition- Akwesasne\, 1569 State Route 37\, Akwesasne\, NY\, 13655\, United States
CATEGORIES:In-Person
ATTACH;FMTTYPE=image/jpeg:https://www.atcev.org/wp-content/uploads/2023/11/Seven-Dancers-Mens-Talking-Circle-Wednesdays.jpg
ORGANIZER;CN="Seven Dancers Coalition":MAILTO:info@seven-dancers.com
END:VEVENT
BEGIN:VEVENT
DTSTART;TZID=America/New_York:20271020T180000
DTEND;TZID=America/New_York:20271020T200000
DTSTAMP:20260420T100542
CREATED:20231128T213613Z
LAST-MODIFIED:20240802T181356Z
UID:10002374-1824055200-1824062400@www.atcev.org
SUMMARY:Men's Talking Circle
DESCRIPTION:Join the Seven Dancers Coalition for the Men’s Talking Circle that happens every Wednesday. For the most up-to-date information on this event please contact the Seven Dancers Coalition.
URL:https://www.atcev.org/event/mens-talking-circle/2027-10-20/
LOCATION:Seven Dancers Coalition- Akwesasne\, 1569 State Route 37\, Akwesasne\, NY\, 13655\, United States
CATEGORIES:In-Person
ATTACH;FMTTYPE=image/jpeg:https://www.atcev.org/wp-content/uploads/2023/11/Seven-Dancers-Mens-Talking-Circle-Wednesdays.jpg
ORGANIZER;CN="Seven Dancers Coalition":MAILTO:info@seven-dancers.com
END:VEVENT
BEGIN:VEVENT
DTSTART;TZID=America/New_York:20271027T180000
DTEND;TZID=America/New_York:20271027T200000
DTSTAMP:20260420T100542
CREATED:20231128T213613Z
LAST-MODIFIED:20240802T181356Z
UID:10002375-1824660000-1824667200@www.atcev.org
SUMMARY:Men's Talking Circle
DESCRIPTION:Join the Seven Dancers Coalition for the Men’s Talking Circle that happens every Wednesday. For the most up-to-date information on this event please contact the Seven Dancers Coalition.
URL:https://www.atcev.org/event/mens-talking-circle/2027-10-27/
LOCATION:Seven Dancers Coalition- Akwesasne\, 1569 State Route 37\, Akwesasne\, NY\, 13655\, United States
CATEGORIES:In-Person
ATTACH;FMTTYPE=image/jpeg:https://www.atcev.org/wp-content/uploads/2023/11/Seven-Dancers-Mens-Talking-Circle-Wednesdays.jpg
ORGANIZER;CN="Seven Dancers Coalition":MAILTO:info@seven-dancers.com
END:VEVENT
BEGIN:VEVENT
DTSTART;TZID=America/New_York:20271103T180000
DTEND;TZID=America/New_York:20271103T200000
DTSTAMP:20260420T100542
CREATED:20231128T213613Z
LAST-MODIFIED:20240802T181356Z
UID:10002376-1825264800-1825272000@www.atcev.org
SUMMARY:Men's Talking Circle
DESCRIPTION:Join the Seven Dancers Coalition for the Men’s Talking Circle that happens every Wednesday. For the most up-to-date information on this event please contact the Seven Dancers Coalition.
URL:https://www.atcev.org/event/mens-talking-circle/2027-11-03/
LOCATION:Seven Dancers Coalition- Akwesasne\, 1569 State Route 37\, Akwesasne\, NY\, 13655\, United States
CATEGORIES:In-Person
ATTACH;FMTTYPE=image/jpeg:https://www.atcev.org/wp-content/uploads/2023/11/Seven-Dancers-Mens-Talking-Circle-Wednesdays.jpg
ORGANIZER;CN="Seven Dancers Coalition":MAILTO:info@seven-dancers.com
END:VEVENT
BEGIN:VEVENT
DTSTART;TZID=America/New_York:20271110T180000
DTEND;TZID=America/New_York:20271110T200000
DTSTAMP:20260420T100542
CREATED:20231128T213613Z
LAST-MODIFIED:20240802T181356Z
UID:10002377-1825869600-1825876800@www.atcev.org
SUMMARY:Men's Talking Circle
DESCRIPTION:Join the Seven Dancers Coalition for the Men’s Talking Circle that happens every Wednesday. For the most up-to-date information on this event please contact the Seven Dancers Coalition.
URL:https://www.atcev.org/event/mens-talking-circle/2027-11-10/
LOCATION:Seven Dancers Coalition- Akwesasne\, 1569 State Route 37\, Akwesasne\, NY\, 13655\, United States
CATEGORIES:In-Person
ATTACH;FMTTYPE=image/jpeg:https://www.atcev.org/wp-content/uploads/2023/11/Seven-Dancers-Mens-Talking-Circle-Wednesdays.jpg
ORGANIZER;CN="Seven Dancers Coalition":MAILTO:info@seven-dancers.com
END:VEVENT
BEGIN:VEVENT
DTSTART;TZID=America/New_York:20271117T180000
DTEND;TZID=America/New_York:20271117T200000
DTSTAMP:20260420T100542
CREATED:20231128T213613Z
LAST-MODIFIED:20240802T181356Z
UID:10002378-1826474400-1826481600@www.atcev.org
SUMMARY:Men's Talking Circle
DESCRIPTION:Join the Seven Dancers Coalition for the Men’s Talking Circle that happens every Wednesday. For the most up-to-date information on this event please contact the Seven Dancers Coalition.
URL:https://www.atcev.org/event/mens-talking-circle/2027-11-17/
LOCATION:Seven Dancers Coalition- Akwesasne\, 1569 State Route 37\, Akwesasne\, NY\, 13655\, United States
CATEGORIES:In-Person
ATTACH;FMTTYPE=image/jpeg:https://www.atcev.org/wp-content/uploads/2023/11/Seven-Dancers-Mens-Talking-Circle-Wednesdays.jpg
ORGANIZER;CN="Seven Dancers Coalition":MAILTO:info@seven-dancers.com
END:VEVENT
BEGIN:VEVENT
DTSTART;TZID=America/New_York:20271124T180000
DTEND;TZID=America/New_York:20271124T200000
DTSTAMP:20260420T100542
CREATED:20231128T213613Z
LAST-MODIFIED:20240802T181356Z
UID:10002379-1827079200-1827086400@www.atcev.org
SUMMARY:Men's Talking Circle
DESCRIPTION:Join the Seven Dancers Coalition for the Men’s Talking Circle that happens every Wednesday. For the most up-to-date information on this event please contact the Seven Dancers Coalition.
URL:https://www.atcev.org/event/mens-talking-circle/2027-11-24/
LOCATION:Seven Dancers Coalition- Akwesasne\, 1569 State Route 37\, Akwesasne\, NY\, 13655\, United States
CATEGORIES:In-Person
ATTACH;FMTTYPE=image/jpeg:https://www.atcev.org/wp-content/uploads/2023/11/Seven-Dancers-Mens-Talking-Circle-Wednesdays.jpg
ORGANIZER;CN="Seven Dancers Coalition":MAILTO:info@seven-dancers.com
END:VEVENT
BEGIN:VEVENT
DTSTART;TZID=America/New_York:20271201T180000
DTEND;TZID=America/New_York:20271201T200000
DTSTAMP:20260420T100542
CREATED:20231128T213613Z
LAST-MODIFIED:20240802T181356Z
UID:10002380-1827684000-1827691200@www.atcev.org
SUMMARY:Men's Talking Circle
DESCRIPTION:Join the Seven Dancers Coalition for the Men’s Talking Circle that happens every Wednesday. For the most up-to-date information on this event please contact the Seven Dancers Coalition.
URL:https://www.atcev.org/event/mens-talking-circle/2027-12-01/
LOCATION:Seven Dancers Coalition- Akwesasne\, 1569 State Route 37\, Akwesasne\, NY\, 13655\, United States
CATEGORIES:In-Person
ATTACH;FMTTYPE=image/jpeg:https://www.atcev.org/wp-content/uploads/2023/11/Seven-Dancers-Mens-Talking-Circle-Wednesdays.jpg
ORGANIZER;CN="Seven Dancers Coalition":MAILTO:info@seven-dancers.com
END:VEVENT
BEGIN:VEVENT
DTSTART;TZID=America/New_York:20271208T180000
DTEND;TZID=America/New_York:20271208T200000
DTSTAMP:20260420T100542
CREATED:20231128T213613Z
LAST-MODIFIED:20240802T181356Z
UID:10002381-1828288800-1828296000@www.atcev.org
SUMMARY:Men's Talking Circle
DESCRIPTION:Join the Seven Dancers Coalition for the Men’s Talking Circle that happens every Wednesday. For the most up-to-date information on this event please contact the Seven Dancers Coalition.
URL:https://www.atcev.org/event/mens-talking-circle/2027-12-08/
LOCATION:Seven Dancers Coalition- Akwesasne\, 1569 State Route 37\, Akwesasne\, NY\, 13655\, United States
CATEGORIES:In-Person
ATTACH;FMTTYPE=image/jpeg:https://www.atcev.org/wp-content/uploads/2023/11/Seven-Dancers-Mens-Talking-Circle-Wednesdays.jpg
ORGANIZER;CN="Seven Dancers Coalition":MAILTO:info@seven-dancers.com
END:VEVENT
BEGIN:VEVENT
DTSTART;TZID=America/New_York:20271215T180000
DTEND;TZID=America/New_York:20271215T200000
DTSTAMP:20260420T100542
CREATED:20231128T213613Z
LAST-MODIFIED:20240802T181356Z
UID:10002382-1828893600-1828900800@www.atcev.org
SUMMARY:Men's Talking Circle
DESCRIPTION:Join the Seven Dancers Coalition for the Men’s Talking Circle that happens every Wednesday. For the most up-to-date information on this event please contact the Seven Dancers Coalition.
URL:https://www.atcev.org/event/mens-talking-circle/2027-12-15/
LOCATION:Seven Dancers Coalition- Akwesasne\, 1569 State Route 37\, Akwesasne\, NY\, 13655\, United States
CATEGORIES:In-Person
ATTACH;FMTTYPE=image/jpeg:https://www.atcev.org/wp-content/uploads/2023/11/Seven-Dancers-Mens-Talking-Circle-Wednesdays.jpg
ORGANIZER;CN="Seven Dancers Coalition":MAILTO:info@seven-dancers.com
END:VEVENT
BEGIN:VEVENT
DTSTART;TZID=America/New_York:20271222T180000
DTEND;TZID=America/New_York:20271222T200000
DTSTAMP:20260420T100542
CREATED:20231128T213613Z
LAST-MODIFIED:20240802T181356Z
UID:10002383-1829498400-1829505600@www.atcev.org
SUMMARY:Men's Talking Circle
DESCRIPTION:Join the Seven Dancers Coalition for the Men’s Talking Circle that happens every Wednesday. For the most up-to-date information on this event please contact the Seven Dancers Coalition.
URL:https://www.atcev.org/event/mens-talking-circle/2027-12-22/
LOCATION:Seven Dancers Coalition- Akwesasne\, 1569 State Route 37\, Akwesasne\, NY\, 13655\, United States
CATEGORIES:In-Person
ATTACH;FMTTYPE=image/jpeg:https://www.atcev.org/wp-content/uploads/2023/11/Seven-Dancers-Mens-Talking-Circle-Wednesdays.jpg
ORGANIZER;CN="Seven Dancers Coalition":MAILTO:info@seven-dancers.com
END:VEVENT
BEGIN:VEVENT
DTSTART;TZID=America/New_York:20271229T180000
DTEND;TZID=America/New_York:20271229T200000
DTSTAMP:20260420T100542
CREATED:20231128T213613Z
LAST-MODIFIED:20240802T181356Z
UID:10002384-1830103200-1830110400@www.atcev.org
SUMMARY:Men's Talking Circle
DESCRIPTION:Join the Seven Dancers Coalition for the Men’s Talking Circle that happens every Wednesday. For the most up-to-date information on this event please contact the Seven Dancers Coalition.
URL:https://www.atcev.org/event/mens-talking-circle/2027-12-29/
LOCATION:Seven Dancers Coalition- Akwesasne\, 1569 State Route 37\, Akwesasne\, NY\, 13655\, United States
CATEGORIES:In-Person
ATTACH;FMTTYPE=image/jpeg:https://www.atcev.org/wp-content/uploads/2023/11/Seven-Dancers-Mens-Talking-Circle-Wednesdays.jpg
ORGANIZER;CN="Seven Dancers Coalition":MAILTO:info@seven-dancers.com
END:VEVENT
BEGIN:VEVENT
DTSTART;TZID=America/New_York:20280105T180000
DTEND;TZID=America/New_York:20280105T200000
DTSTAMP:20260420T100542
CREATED:20231128T213613Z
LAST-MODIFIED:20240802T181356Z
UID:10002385-1830708000-1830715200@www.atcev.org
SUMMARY:Men's Talking Circle
DESCRIPTION:Join the Seven Dancers Coalition for the Men’s Talking Circle that happens every Wednesday. For the most up-to-date information on this event please contact the Seven Dancers Coalition.
URL:https://www.atcev.org/event/mens-talking-circle/2028-01-05/
LOCATION:Seven Dancers Coalition- Akwesasne\, 1569 State Route 37\, Akwesasne\, NY\, 13655\, United States
CATEGORIES:In-Person
ATTACH;FMTTYPE=image/jpeg:https://www.atcev.org/wp-content/uploads/2023/11/Seven-Dancers-Mens-Talking-Circle-Wednesdays.jpg
ORGANIZER;CN="Seven Dancers Coalition":MAILTO:info@seven-dancers.com
END:VEVENT
END:VCALENDAR