BEGIN:VCALENDAR
VERSION:2.0
PRODID:-//ATCEV - ECPv6.15.19//NONSGML v1.0//EN
CALSCALE:GREGORIAN
METHOD:PUBLISH
X-ORIGINAL-URL:https://www.atcev.org
X-WR-CALDESC:Events for ATCEV
REFRESH-INTERVAL;VALUE=DURATION:PT1H
X-Robots-Tag:noindex
X-PUBLISHED-TTL:PT1H
BEGIN:VTIMEZONE
TZID:America/New_York
BEGIN:DAYLIGHT
TZOFFSETFROM:-0500
TZOFFSETTO:-0400
TZNAME:EDT
DTSTART:20280312T070000
END:DAYLIGHT
BEGIN:STANDARD
TZOFFSETFROM:-0400
TZOFFSETTO:-0500
TZNAME:EST
DTSTART:20281105T060000
END:STANDARD
BEGIN:DAYLIGHT
TZOFFSETFROM:-0500
TZOFFSETTO:-0400
TZNAME:EDT
DTSTART:20290311T070000
END:DAYLIGHT
BEGIN:STANDARD
TZOFFSETFROM:-0400
TZOFFSETTO:-0500
TZNAME:EST
DTSTART:20291104T060000
END:STANDARD
BEGIN:DAYLIGHT
TZOFFSETFROM:-0500
TZOFFSETTO:-0400
TZNAME:EDT
DTSTART:20300310T070000
END:DAYLIGHT
BEGIN:STANDARD
TZOFFSETFROM:-0400
TZOFFSETTO:-0500
TZNAME:EST
DTSTART:20301103T060000
END:STANDARD
BEGIN:DAYLIGHT
TZOFFSETFROM:-0500
TZOFFSETTO:-0400
TZNAME:EDT
DTSTART:20310309T070000
END:DAYLIGHT
BEGIN:STANDARD
TZOFFSETFROM:-0400
TZOFFSETTO:-0500
TZNAME:EST
DTSTART:20311102T060000
END:STANDARD
END:VTIMEZONE
BEGIN:VEVENT
DTSTART;TZID=America/New_York:20291003T180000
DTEND;TZID=America/New_York:20291003T200000
DTSTAMP:20260420T172715
CREATED:20231128T213613Z
LAST-MODIFIED:20240802T181356Z
UID:10002852-1885744800-1885752000@www.atcev.org
SUMMARY:Men's Talking Circle
DESCRIPTION:Join the Seven Dancers Coalition for the Men’s Talking Circle that happens every Wednesday. For the most up-to-date information on this event please contact the Seven Dancers Coalition.
URL:https://www.atcev.org/event/mens-talking-circle/2029-10-03/
LOCATION:Seven Dancers Coalition- Akwesasne\, 1569 State Route 37\, Akwesasne\, NY\, 13655\, United States
CATEGORIES:In-Person
ATTACH;FMTTYPE=image/jpeg:https://www.atcev.org/wp-content/uploads/2023/11/Seven-Dancers-Mens-Talking-Circle-Wednesdays.jpg
ORGANIZER;CN="Seven Dancers Coalition":MAILTO:info@seven-dancers.com
END:VEVENT
BEGIN:VEVENT
DTSTART;TZID=America/New_York:20291010T180000
DTEND;TZID=America/New_York:20291010T200000
DTSTAMP:20260420T172715
CREATED:20231128T213613Z
LAST-MODIFIED:20240802T181356Z
UID:10002853-1886349600-1886356800@www.atcev.org
SUMMARY:Men's Talking Circle
DESCRIPTION:Join the Seven Dancers Coalition for the Men’s Talking Circle that happens every Wednesday. For the most up-to-date information on this event please contact the Seven Dancers Coalition.
URL:https://www.atcev.org/event/mens-talking-circle/2029-10-10/
LOCATION:Seven Dancers Coalition- Akwesasne\, 1569 State Route 37\, Akwesasne\, NY\, 13655\, United States
CATEGORIES:In-Person
ATTACH;FMTTYPE=image/jpeg:https://www.atcev.org/wp-content/uploads/2023/11/Seven-Dancers-Mens-Talking-Circle-Wednesdays.jpg
ORGANIZER;CN="Seven Dancers Coalition":MAILTO:info@seven-dancers.com
END:VEVENT
BEGIN:VEVENT
DTSTART;TZID=America/New_York:20291017T180000
DTEND;TZID=America/New_York:20291017T200000
DTSTAMP:20260420T172715
CREATED:20231128T213613Z
LAST-MODIFIED:20240802T181356Z
UID:10002854-1886954400-1886961600@www.atcev.org
SUMMARY:Men's Talking Circle
DESCRIPTION:Join the Seven Dancers Coalition for the Men’s Talking Circle that happens every Wednesday. For the most up-to-date information on this event please contact the Seven Dancers Coalition.
URL:https://www.atcev.org/event/mens-talking-circle/2029-10-17/
LOCATION:Seven Dancers Coalition- Akwesasne\, 1569 State Route 37\, Akwesasne\, NY\, 13655\, United States
CATEGORIES:In-Person
ATTACH;FMTTYPE=image/jpeg:https://www.atcev.org/wp-content/uploads/2023/11/Seven-Dancers-Mens-Talking-Circle-Wednesdays.jpg
ORGANIZER;CN="Seven Dancers Coalition":MAILTO:info@seven-dancers.com
END:VEVENT
BEGIN:VEVENT
DTSTART;TZID=America/New_York:20291024T180000
DTEND;TZID=America/New_York:20291024T200000
DTSTAMP:20260420T172715
CREATED:20231128T213613Z
LAST-MODIFIED:20240802T181356Z
UID:10002855-1887559200-1887566400@www.atcev.org
SUMMARY:Men's Talking Circle
DESCRIPTION:Join the Seven Dancers Coalition for the Men’s Talking Circle that happens every Wednesday. For the most up-to-date information on this event please contact the Seven Dancers Coalition.
URL:https://www.atcev.org/event/mens-talking-circle/2029-10-24/
LOCATION:Seven Dancers Coalition- Akwesasne\, 1569 State Route 37\, Akwesasne\, NY\, 13655\, United States
CATEGORIES:In-Person
ATTACH;FMTTYPE=image/jpeg:https://www.atcev.org/wp-content/uploads/2023/11/Seven-Dancers-Mens-Talking-Circle-Wednesdays.jpg
ORGANIZER;CN="Seven Dancers Coalition":MAILTO:info@seven-dancers.com
END:VEVENT
BEGIN:VEVENT
DTSTART;TZID=America/New_York:20291031T180000
DTEND;TZID=America/New_York:20291031T200000
DTSTAMP:20260420T172715
CREATED:20231128T213613Z
LAST-MODIFIED:20240802T181356Z
UID:10002856-1888164000-1888171200@www.atcev.org
SUMMARY:Men's Talking Circle
DESCRIPTION:Join the Seven Dancers Coalition for the Men’s Talking Circle that happens every Wednesday. For the most up-to-date information on this event please contact the Seven Dancers Coalition.
URL:https://www.atcev.org/event/mens-talking-circle/2029-10-31/
LOCATION:Seven Dancers Coalition- Akwesasne\, 1569 State Route 37\, Akwesasne\, NY\, 13655\, United States
CATEGORIES:In-Person
ATTACH;FMTTYPE=image/jpeg:https://www.atcev.org/wp-content/uploads/2023/11/Seven-Dancers-Mens-Talking-Circle-Wednesdays.jpg
ORGANIZER;CN="Seven Dancers Coalition":MAILTO:info@seven-dancers.com
END:VEVENT
BEGIN:VEVENT
DTSTART;TZID=America/New_York:20291107T180000
DTEND;TZID=America/New_York:20291107T200000
DTSTAMP:20260420T172715
CREATED:20231128T213613Z
LAST-MODIFIED:20240802T181356Z
UID:10002857-1888768800-1888776000@www.atcev.org
SUMMARY:Men's Talking Circle
DESCRIPTION:Join the Seven Dancers Coalition for the Men’s Talking Circle that happens every Wednesday. For the most up-to-date information on this event please contact the Seven Dancers Coalition.
URL:https://www.atcev.org/event/mens-talking-circle/2029-11-07/
LOCATION:Seven Dancers Coalition- Akwesasne\, 1569 State Route 37\, Akwesasne\, NY\, 13655\, United States
CATEGORIES:In-Person
ATTACH;FMTTYPE=image/jpeg:https://www.atcev.org/wp-content/uploads/2023/11/Seven-Dancers-Mens-Talking-Circle-Wednesdays.jpg
ORGANIZER;CN="Seven Dancers Coalition":MAILTO:info@seven-dancers.com
END:VEVENT
BEGIN:VEVENT
DTSTART;TZID=America/New_York:20291114T180000
DTEND;TZID=America/New_York:20291114T200000
DTSTAMP:20260420T172715
CREATED:20231128T213613Z
LAST-MODIFIED:20240802T181356Z
UID:10002858-1889373600-1889380800@www.atcev.org
SUMMARY:Men's Talking Circle
DESCRIPTION:Join the Seven Dancers Coalition for the Men’s Talking Circle that happens every Wednesday. For the most up-to-date information on this event please contact the Seven Dancers Coalition.
URL:https://www.atcev.org/event/mens-talking-circle/2029-11-14/
LOCATION:Seven Dancers Coalition- Akwesasne\, 1569 State Route 37\, Akwesasne\, NY\, 13655\, United States
CATEGORIES:In-Person
ATTACH;FMTTYPE=image/jpeg:https://www.atcev.org/wp-content/uploads/2023/11/Seven-Dancers-Mens-Talking-Circle-Wednesdays.jpg
ORGANIZER;CN="Seven Dancers Coalition":MAILTO:info@seven-dancers.com
END:VEVENT
BEGIN:VEVENT
DTSTART;TZID=America/New_York:20291121T180000
DTEND;TZID=America/New_York:20291121T200000
DTSTAMP:20260420T172715
CREATED:20231128T213613Z
LAST-MODIFIED:20240802T181356Z
UID:10002859-1889978400-1889985600@www.atcev.org
SUMMARY:Men's Talking Circle
DESCRIPTION:Join the Seven Dancers Coalition for the Men’s Talking Circle that happens every Wednesday. For the most up-to-date information on this event please contact the Seven Dancers Coalition.
URL:https://www.atcev.org/event/mens-talking-circle/2029-11-21/
LOCATION:Seven Dancers Coalition- Akwesasne\, 1569 State Route 37\, Akwesasne\, NY\, 13655\, United States
CATEGORIES:In-Person
ATTACH;FMTTYPE=image/jpeg:https://www.atcev.org/wp-content/uploads/2023/11/Seven-Dancers-Mens-Talking-Circle-Wednesdays.jpg
ORGANIZER;CN="Seven Dancers Coalition":MAILTO:info@seven-dancers.com
END:VEVENT
BEGIN:VEVENT
DTSTART;TZID=America/New_York:20291128T180000
DTEND;TZID=America/New_York:20291128T200000
DTSTAMP:20260420T172715
CREATED:20231128T213613Z
LAST-MODIFIED:20240802T181356Z
UID:10002860-1890583200-1890590400@www.atcev.org
SUMMARY:Men's Talking Circle
DESCRIPTION:Join the Seven Dancers Coalition for the Men’s Talking Circle that happens every Wednesday. For the most up-to-date information on this event please contact the Seven Dancers Coalition.
URL:https://www.atcev.org/event/mens-talking-circle/2029-11-28/
LOCATION:Seven Dancers Coalition- Akwesasne\, 1569 State Route 37\, Akwesasne\, NY\, 13655\, United States
CATEGORIES:In-Person
ATTACH;FMTTYPE=image/jpeg:https://www.atcev.org/wp-content/uploads/2023/11/Seven-Dancers-Mens-Talking-Circle-Wednesdays.jpg
ORGANIZER;CN="Seven Dancers Coalition":MAILTO:info@seven-dancers.com
END:VEVENT
BEGIN:VEVENT
DTSTART;TZID=America/New_York:20291205T180000
DTEND;TZID=America/New_York:20291205T200000
DTSTAMP:20260420T172715
CREATED:20231128T213613Z
LAST-MODIFIED:20240802T181356Z
UID:10002861-1891188000-1891195200@www.atcev.org
SUMMARY:Men's Talking Circle
DESCRIPTION:Join the Seven Dancers Coalition for the Men’s Talking Circle that happens every Wednesday. For the most up-to-date information on this event please contact the Seven Dancers Coalition.
URL:https://www.atcev.org/event/mens-talking-circle/2029-12-05/
LOCATION:Seven Dancers Coalition- Akwesasne\, 1569 State Route 37\, Akwesasne\, NY\, 13655\, United States
CATEGORIES:In-Person
ATTACH;FMTTYPE=image/jpeg:https://www.atcev.org/wp-content/uploads/2023/11/Seven-Dancers-Mens-Talking-Circle-Wednesdays.jpg
ORGANIZER;CN="Seven Dancers Coalition":MAILTO:info@seven-dancers.com
END:VEVENT
BEGIN:VEVENT
DTSTART;TZID=America/New_York:20291212T180000
DTEND;TZID=America/New_York:20291212T200000
DTSTAMP:20260420T172715
CREATED:20231128T213613Z
LAST-MODIFIED:20240802T181356Z
UID:10002862-1891792800-1891800000@www.atcev.org
SUMMARY:Men's Talking Circle
DESCRIPTION:Join the Seven Dancers Coalition for the Men’s Talking Circle that happens every Wednesday. For the most up-to-date information on this event please contact the Seven Dancers Coalition.
URL:https://www.atcev.org/event/mens-talking-circle/2029-12-12/
LOCATION:Seven Dancers Coalition- Akwesasne\, 1569 State Route 37\, Akwesasne\, NY\, 13655\, United States
CATEGORIES:In-Person
ATTACH;FMTTYPE=image/jpeg:https://www.atcev.org/wp-content/uploads/2023/11/Seven-Dancers-Mens-Talking-Circle-Wednesdays.jpg
ORGANIZER;CN="Seven Dancers Coalition":MAILTO:info@seven-dancers.com
END:VEVENT
BEGIN:VEVENT
DTSTART;TZID=America/New_York:20291219T180000
DTEND;TZID=America/New_York:20291219T200000
DTSTAMP:20260420T172715
CREATED:20231128T213613Z
LAST-MODIFIED:20240802T181356Z
UID:10002863-1892397600-1892404800@www.atcev.org
SUMMARY:Men's Talking Circle
DESCRIPTION:Join the Seven Dancers Coalition for the Men’s Talking Circle that happens every Wednesday. For the most up-to-date information on this event please contact the Seven Dancers Coalition.
URL:https://www.atcev.org/event/mens-talking-circle/2029-12-19/
LOCATION:Seven Dancers Coalition- Akwesasne\, 1569 State Route 37\, Akwesasne\, NY\, 13655\, United States
CATEGORIES:In-Person
ATTACH;FMTTYPE=image/jpeg:https://www.atcev.org/wp-content/uploads/2023/11/Seven-Dancers-Mens-Talking-Circle-Wednesdays.jpg
ORGANIZER;CN="Seven Dancers Coalition":MAILTO:info@seven-dancers.com
END:VEVENT
BEGIN:VEVENT
DTSTART;TZID=America/New_York:20291226T180000
DTEND;TZID=America/New_York:20291226T200000
DTSTAMP:20260420T172715
CREATED:20231128T213613Z
LAST-MODIFIED:20240802T181356Z
UID:10002864-1893002400-1893009600@www.atcev.org
SUMMARY:Men's Talking Circle
DESCRIPTION:Join the Seven Dancers Coalition for the Men’s Talking Circle that happens every Wednesday. For the most up-to-date information on this event please contact the Seven Dancers Coalition.
URL:https://www.atcev.org/event/mens-talking-circle/2029-12-26/
LOCATION:Seven Dancers Coalition- Akwesasne\, 1569 State Route 37\, Akwesasne\, NY\, 13655\, United States
CATEGORIES:In-Person
ATTACH;FMTTYPE=image/jpeg:https://www.atcev.org/wp-content/uploads/2023/11/Seven-Dancers-Mens-Talking-Circle-Wednesdays.jpg
ORGANIZER;CN="Seven Dancers Coalition":MAILTO:info@seven-dancers.com
END:VEVENT
BEGIN:VEVENT
DTSTART;TZID=America/New_York:20300102T180000
DTEND;TZID=America/New_York:20300102T200000
DTSTAMP:20260420T172715
CREATED:20231128T213613Z
LAST-MODIFIED:20240802T181356Z
UID:10002865-1893607200-1893614400@www.atcev.org
SUMMARY:Men's Talking Circle
DESCRIPTION:Join the Seven Dancers Coalition for the Men’s Talking Circle that happens every Wednesday. For the most up-to-date information on this event please contact the Seven Dancers Coalition.
URL:https://www.atcev.org/event/mens-talking-circle/2030-01-02/
LOCATION:Seven Dancers Coalition- Akwesasne\, 1569 State Route 37\, Akwesasne\, NY\, 13655\, United States
CATEGORIES:In-Person
ATTACH;FMTTYPE=image/jpeg:https://www.atcev.org/wp-content/uploads/2023/11/Seven-Dancers-Mens-Talking-Circle-Wednesdays.jpg
ORGANIZER;CN="Seven Dancers Coalition":MAILTO:info@seven-dancers.com
END:VEVENT
BEGIN:VEVENT
DTSTART;TZID=America/New_York:20300109T180000
DTEND;TZID=America/New_York:20300109T200000
DTSTAMP:20260420T172715
CREATED:20231128T213613Z
LAST-MODIFIED:20240802T181356Z
UID:10002866-1894212000-1894219200@www.atcev.org
SUMMARY:Men's Talking Circle
DESCRIPTION:Join the Seven Dancers Coalition for the Men’s Talking Circle that happens every Wednesday. For the most up-to-date information on this event please contact the Seven Dancers Coalition.
URL:https://www.atcev.org/event/mens-talking-circle/2030-01-09/
LOCATION:Seven Dancers Coalition- Akwesasne\, 1569 State Route 37\, Akwesasne\, NY\, 13655\, United States
CATEGORIES:In-Person
ATTACH;FMTTYPE=image/jpeg:https://www.atcev.org/wp-content/uploads/2023/11/Seven-Dancers-Mens-Talking-Circle-Wednesdays.jpg
ORGANIZER;CN="Seven Dancers Coalition":MAILTO:info@seven-dancers.com
END:VEVENT
BEGIN:VEVENT
DTSTART;TZID=America/New_York:20300116T180000
DTEND;TZID=America/New_York:20300116T200000
DTSTAMP:20260420T172715
CREATED:20231128T213613Z
LAST-MODIFIED:20240802T181356Z
UID:10002867-1894816800-1894824000@www.atcev.org
SUMMARY:Men's Talking Circle
DESCRIPTION:Join the Seven Dancers Coalition for the Men’s Talking Circle that happens every Wednesday. For the most up-to-date information on this event please contact the Seven Dancers Coalition.
URL:https://www.atcev.org/event/mens-talking-circle/2030-01-16/
LOCATION:Seven Dancers Coalition- Akwesasne\, 1569 State Route 37\, Akwesasne\, NY\, 13655\, United States
CATEGORIES:In-Person
ATTACH;FMTTYPE=image/jpeg:https://www.atcev.org/wp-content/uploads/2023/11/Seven-Dancers-Mens-Talking-Circle-Wednesdays.jpg
ORGANIZER;CN="Seven Dancers Coalition":MAILTO:info@seven-dancers.com
END:VEVENT
BEGIN:VEVENT
DTSTART;TZID=America/New_York:20300123T180000
DTEND;TZID=America/New_York:20300123T200000
DTSTAMP:20260420T172715
CREATED:20231128T213613Z
LAST-MODIFIED:20240802T181356Z
UID:10002868-1895421600-1895428800@www.atcev.org
SUMMARY:Men's Talking Circle
DESCRIPTION:Join the Seven Dancers Coalition for the Men’s Talking Circle that happens every Wednesday. For the most up-to-date information on this event please contact the Seven Dancers Coalition.
URL:https://www.atcev.org/event/mens-talking-circle/2030-01-23/
LOCATION:Seven Dancers Coalition- Akwesasne\, 1569 State Route 37\, Akwesasne\, NY\, 13655\, United States
CATEGORIES:In-Person
ATTACH;FMTTYPE=image/jpeg:https://www.atcev.org/wp-content/uploads/2023/11/Seven-Dancers-Mens-Talking-Circle-Wednesdays.jpg
ORGANIZER;CN="Seven Dancers Coalition":MAILTO:info@seven-dancers.com
END:VEVENT
BEGIN:VEVENT
DTSTART;TZID=America/New_York:20300130T180000
DTEND;TZID=America/New_York:20300130T200000
DTSTAMP:20260420T172715
CREATED:20231128T213613Z
LAST-MODIFIED:20240802T181356Z
UID:10002869-1896026400-1896033600@www.atcev.org
SUMMARY:Men's Talking Circle
DESCRIPTION:Join the Seven Dancers Coalition for the Men’s Talking Circle that happens every Wednesday. For the most up-to-date information on this event please contact the Seven Dancers Coalition.
URL:https://www.atcev.org/event/mens-talking-circle/2030-01-30/
LOCATION:Seven Dancers Coalition- Akwesasne\, 1569 State Route 37\, Akwesasne\, NY\, 13655\, United States
CATEGORIES:In-Person
ATTACH;FMTTYPE=image/jpeg:https://www.atcev.org/wp-content/uploads/2023/11/Seven-Dancers-Mens-Talking-Circle-Wednesdays.jpg
ORGANIZER;CN="Seven Dancers Coalition":MAILTO:info@seven-dancers.com
END:VEVENT
BEGIN:VEVENT
DTSTART;TZID=America/New_York:20300206T180000
DTEND;TZID=America/New_York:20300206T200000
DTSTAMP:20260420T172715
CREATED:20231128T213613Z
LAST-MODIFIED:20240802T181356Z
UID:10002870-1896631200-1896638400@www.atcev.org
SUMMARY:Men's Talking Circle
DESCRIPTION:Join the Seven Dancers Coalition for the Men’s Talking Circle that happens every Wednesday. For the most up-to-date information on this event please contact the Seven Dancers Coalition.
URL:https://www.atcev.org/event/mens-talking-circle/2030-02-06/
LOCATION:Seven Dancers Coalition- Akwesasne\, 1569 State Route 37\, Akwesasne\, NY\, 13655\, United States
CATEGORIES:In-Person
ATTACH;FMTTYPE=image/jpeg:https://www.atcev.org/wp-content/uploads/2023/11/Seven-Dancers-Mens-Talking-Circle-Wednesdays.jpg
ORGANIZER;CN="Seven Dancers Coalition":MAILTO:info@seven-dancers.com
END:VEVENT
BEGIN:VEVENT
DTSTART;TZID=America/New_York:20300213T180000
DTEND;TZID=America/New_York:20300213T200000
DTSTAMP:20260420T172715
CREATED:20231128T213613Z
LAST-MODIFIED:20240802T181356Z
UID:10002871-1897236000-1897243200@www.atcev.org
SUMMARY:Men's Talking Circle
DESCRIPTION:Join the Seven Dancers Coalition for the Men’s Talking Circle that happens every Wednesday. For the most up-to-date information on this event please contact the Seven Dancers Coalition.
URL:https://www.atcev.org/event/mens-talking-circle/2030-02-13/
LOCATION:Seven Dancers Coalition- Akwesasne\, 1569 State Route 37\, Akwesasne\, NY\, 13655\, United States
CATEGORIES:In-Person
ATTACH;FMTTYPE=image/jpeg:https://www.atcev.org/wp-content/uploads/2023/11/Seven-Dancers-Mens-Talking-Circle-Wednesdays.jpg
ORGANIZER;CN="Seven Dancers Coalition":MAILTO:info@seven-dancers.com
END:VEVENT
BEGIN:VEVENT
DTSTART;TZID=America/New_York:20300220T180000
DTEND;TZID=America/New_York:20300220T200000
DTSTAMP:20260420T172715
CREATED:20231128T213613Z
LAST-MODIFIED:20240802T181356Z
UID:10002872-1897840800-1897848000@www.atcev.org
SUMMARY:Men's Talking Circle
DESCRIPTION:Join the Seven Dancers Coalition for the Men’s Talking Circle that happens every Wednesday. For the most up-to-date information on this event please contact the Seven Dancers Coalition.
URL:https://www.atcev.org/event/mens-talking-circle/2030-02-20/
LOCATION:Seven Dancers Coalition- Akwesasne\, 1569 State Route 37\, Akwesasne\, NY\, 13655\, United States
CATEGORIES:In-Person
ATTACH;FMTTYPE=image/jpeg:https://www.atcev.org/wp-content/uploads/2023/11/Seven-Dancers-Mens-Talking-Circle-Wednesdays.jpg
ORGANIZER;CN="Seven Dancers Coalition":MAILTO:info@seven-dancers.com
END:VEVENT
BEGIN:VEVENT
DTSTART;TZID=America/New_York:20300227T180000
DTEND;TZID=America/New_York:20300227T200000
DTSTAMP:20260420T172715
CREATED:20231128T213613Z
LAST-MODIFIED:20240802T181356Z
UID:10002873-1898445600-1898452800@www.atcev.org
SUMMARY:Men's Talking Circle
DESCRIPTION:Join the Seven Dancers Coalition for the Men’s Talking Circle that happens every Wednesday. For the most up-to-date information on this event please contact the Seven Dancers Coalition.
URL:https://www.atcev.org/event/mens-talking-circle/2030-02-27/
LOCATION:Seven Dancers Coalition- Akwesasne\, 1569 State Route 37\, Akwesasne\, NY\, 13655\, United States
CATEGORIES:In-Person
ATTACH;FMTTYPE=image/jpeg:https://www.atcev.org/wp-content/uploads/2023/11/Seven-Dancers-Mens-Talking-Circle-Wednesdays.jpg
ORGANIZER;CN="Seven Dancers Coalition":MAILTO:info@seven-dancers.com
END:VEVENT
BEGIN:VEVENT
DTSTART;TZID=America/New_York:20300306T180000
DTEND;TZID=America/New_York:20300306T200000
DTSTAMP:20260420T172715
CREATED:20231128T213613Z
LAST-MODIFIED:20240802T181356Z
UID:10002874-1899050400-1899057600@www.atcev.org
SUMMARY:Men's Talking Circle
DESCRIPTION:Join the Seven Dancers Coalition for the Men’s Talking Circle that happens every Wednesday. For the most up-to-date information on this event please contact the Seven Dancers Coalition.
URL:https://www.atcev.org/event/mens-talking-circle/2030-03-06/
LOCATION:Seven Dancers Coalition- Akwesasne\, 1569 State Route 37\, Akwesasne\, NY\, 13655\, United States
CATEGORIES:In-Person
ATTACH;FMTTYPE=image/jpeg:https://www.atcev.org/wp-content/uploads/2023/11/Seven-Dancers-Mens-Talking-Circle-Wednesdays.jpg
ORGANIZER;CN="Seven Dancers Coalition":MAILTO:info@seven-dancers.com
END:VEVENT
BEGIN:VEVENT
DTSTART;TZID=America/New_York:20300313T180000
DTEND;TZID=America/New_York:20300313T200000
DTSTAMP:20260420T172715
CREATED:20231128T213613Z
LAST-MODIFIED:20240802T181356Z
UID:10002875-1899655200-1899662400@www.atcev.org
SUMMARY:Men's Talking Circle
DESCRIPTION:Join the Seven Dancers Coalition for the Men’s Talking Circle that happens every Wednesday. For the most up-to-date information on this event please contact the Seven Dancers Coalition.
URL:https://www.atcev.org/event/mens-talking-circle/2030-03-13/
LOCATION:Seven Dancers Coalition- Akwesasne\, 1569 State Route 37\, Akwesasne\, NY\, 13655\, United States
CATEGORIES:In-Person
ATTACH;FMTTYPE=image/jpeg:https://www.atcev.org/wp-content/uploads/2023/11/Seven-Dancers-Mens-Talking-Circle-Wednesdays.jpg
ORGANIZER;CN="Seven Dancers Coalition":MAILTO:info@seven-dancers.com
END:VEVENT
BEGIN:VEVENT
DTSTART;TZID=America/New_York:20300320T180000
DTEND;TZID=America/New_York:20300320T200000
DTSTAMP:20260420T172715
CREATED:20231128T213613Z
LAST-MODIFIED:20240802T181356Z
UID:10002876-1900260000-1900267200@www.atcev.org
SUMMARY:Men's Talking Circle
DESCRIPTION:Join the Seven Dancers Coalition for the Men’s Talking Circle that happens every Wednesday. For the most up-to-date information on this event please contact the Seven Dancers Coalition.
URL:https://www.atcev.org/event/mens-talking-circle/2030-03-20/
LOCATION:Seven Dancers Coalition- Akwesasne\, 1569 State Route 37\, Akwesasne\, NY\, 13655\, United States
CATEGORIES:In-Person
ATTACH;FMTTYPE=image/jpeg:https://www.atcev.org/wp-content/uploads/2023/11/Seven-Dancers-Mens-Talking-Circle-Wednesdays.jpg
ORGANIZER;CN="Seven Dancers Coalition":MAILTO:info@seven-dancers.com
END:VEVENT
BEGIN:VEVENT
DTSTART;TZID=America/New_York:20300327T180000
DTEND;TZID=America/New_York:20300327T200000
DTSTAMP:20260420T172715
CREATED:20231128T213613Z
LAST-MODIFIED:20240802T181356Z
UID:10002877-1900864800-1900872000@www.atcev.org
SUMMARY:Men's Talking Circle
DESCRIPTION:Join the Seven Dancers Coalition for the Men’s Talking Circle that happens every Wednesday. For the most up-to-date information on this event please contact the Seven Dancers Coalition.
URL:https://www.atcev.org/event/mens-talking-circle/2030-03-27/
LOCATION:Seven Dancers Coalition- Akwesasne\, 1569 State Route 37\, Akwesasne\, NY\, 13655\, United States
CATEGORIES:In-Person
ATTACH;FMTTYPE=image/jpeg:https://www.atcev.org/wp-content/uploads/2023/11/Seven-Dancers-Mens-Talking-Circle-Wednesdays.jpg
ORGANIZER;CN="Seven Dancers Coalition":MAILTO:info@seven-dancers.com
END:VEVENT
BEGIN:VEVENT
DTSTART;TZID=America/New_York:20300403T180000
DTEND;TZID=America/New_York:20300403T200000
DTSTAMP:20260420T172715
CREATED:20231128T213613Z
LAST-MODIFIED:20240802T181356Z
UID:10002878-1901469600-1901476800@www.atcev.org
SUMMARY:Men's Talking Circle
DESCRIPTION:Join the Seven Dancers Coalition for the Men’s Talking Circle that happens every Wednesday. For the most up-to-date information on this event please contact the Seven Dancers Coalition.
URL:https://www.atcev.org/event/mens-talking-circle/2030-04-03/
LOCATION:Seven Dancers Coalition- Akwesasne\, 1569 State Route 37\, Akwesasne\, NY\, 13655\, United States
CATEGORIES:In-Person
ATTACH;FMTTYPE=image/jpeg:https://www.atcev.org/wp-content/uploads/2023/11/Seven-Dancers-Mens-Talking-Circle-Wednesdays.jpg
ORGANIZER;CN="Seven Dancers Coalition":MAILTO:info@seven-dancers.com
END:VEVENT
BEGIN:VEVENT
DTSTART;TZID=America/New_York:20300410T180000
DTEND;TZID=America/New_York:20300410T200000
DTSTAMP:20260420T172715
CREATED:20231128T213613Z
LAST-MODIFIED:20240802T181356Z
UID:10002879-1902074400-1902081600@www.atcev.org
SUMMARY:Men's Talking Circle
DESCRIPTION:Join the Seven Dancers Coalition for the Men’s Talking Circle that happens every Wednesday. For the most up-to-date information on this event please contact the Seven Dancers Coalition.
URL:https://www.atcev.org/event/mens-talking-circle/2030-04-10/
LOCATION:Seven Dancers Coalition- Akwesasne\, 1569 State Route 37\, Akwesasne\, NY\, 13655\, United States
CATEGORIES:In-Person
ATTACH;FMTTYPE=image/jpeg:https://www.atcev.org/wp-content/uploads/2023/11/Seven-Dancers-Mens-Talking-Circle-Wednesdays.jpg
ORGANIZER;CN="Seven Dancers Coalition":MAILTO:info@seven-dancers.com
END:VEVENT
BEGIN:VEVENT
DTSTART;TZID=America/New_York:20300417T180000
DTEND;TZID=America/New_York:20300417T200000
DTSTAMP:20260420T172715
CREATED:20231128T213613Z
LAST-MODIFIED:20240802T181356Z
UID:10002880-1902679200-1902686400@www.atcev.org
SUMMARY:Men's Talking Circle
DESCRIPTION:Join the Seven Dancers Coalition for the Men’s Talking Circle that happens every Wednesday. For the most up-to-date information on this event please contact the Seven Dancers Coalition.
URL:https://www.atcev.org/event/mens-talking-circle/2030-04-17/
LOCATION:Seven Dancers Coalition- Akwesasne\, 1569 State Route 37\, Akwesasne\, NY\, 13655\, United States
CATEGORIES:In-Person
ATTACH;FMTTYPE=image/jpeg:https://www.atcev.org/wp-content/uploads/2023/11/Seven-Dancers-Mens-Talking-Circle-Wednesdays.jpg
ORGANIZER;CN="Seven Dancers Coalition":MAILTO:info@seven-dancers.com
END:VEVENT
BEGIN:VEVENT
DTSTART;TZID=America/New_York:20300424T180000
DTEND;TZID=America/New_York:20300424T200000
DTSTAMP:20260420T172715
CREATED:20231128T213613Z
LAST-MODIFIED:20240802T181356Z
UID:10002881-1903284000-1903291200@www.atcev.org
SUMMARY:Men's Talking Circle
DESCRIPTION:Join the Seven Dancers Coalition for the Men’s Talking Circle that happens every Wednesday. For the most up-to-date information on this event please contact the Seven Dancers Coalition.
URL:https://www.atcev.org/event/mens-talking-circle/2030-04-24/
LOCATION:Seven Dancers Coalition- Akwesasne\, 1569 State Route 37\, Akwesasne\, NY\, 13655\, United States
CATEGORIES:In-Person
ATTACH;FMTTYPE=image/jpeg:https://www.atcev.org/wp-content/uploads/2023/11/Seven-Dancers-Mens-Talking-Circle-Wednesdays.jpg
ORGANIZER;CN="Seven Dancers Coalition":MAILTO:info@seven-dancers.com
END:VEVENT
END:VCALENDAR