BEGIN:VCALENDAR
VERSION:2.0
PRODID:-//ATCEV - ECPv6.15.19//NONSGML v1.0//EN
CALSCALE:GREGORIAN
METHOD:PUBLISH
X-WR-CALNAME:ATCEV
X-ORIGINAL-URL:https://www.atcev.org
X-WR-CALDESC:Events for ATCEV
REFRESH-INTERVAL;VALUE=DURATION:PT1H
X-Robots-Tag:noindex
X-PUBLISHED-TTL:PT1H
BEGIN:VTIMEZONE
TZID:UTC
BEGIN:STANDARD
TZOFFSETFROM:+0000
TZOFFSETTO:+0000
TZNAME:UTC
DTSTART:20230101T000000
END:STANDARD
END:VTIMEZONE
BEGIN:VEVENT
DTSTART;TZID=UTC:20240416T090000
DTEND;TZID=UTC:20240416T100000
DTSTAMP:20260421T082307
CREATED:20240327T203912Z
LAST-MODIFIED:20240327T203913Z
UID:10001310-1713258000-1713261600@www.atcev.org
SUMMARY:SWIWC SAAM Virtual Resource Day
DESCRIPTION:You are invited to join SWIWCS April Sexual Assault Awareness Month Virtual Resource Day – beginning April 2\, 2024. This event will take place through April\, every Tuesday\, one hour each day\, and recorded LIVE for future viewing. You will only need to register one time and join any of the scheduled presentations. Please refer back to your Zoom confirmation to log in every Thursday to participate weekly. (additional dates and times may be added). This is a great opportunity to network\, learn more about other programs and organizations\, build your resource list\, and participants will become familiar with your program/organization. Join us! For more information please contact tania.harvey@swiwc.org
URL:https://www.atcev.org/event/swiwc-saam-virtual-resource-day/2024-04-16/
CATEGORIES:Virtual
ATTACH;FMTTYPE=image/png:https://www.atcev.org/wp-content/uploads/2024/03/SWIWC-SAAM-Virtual-Awareness-Event.png
ORGANIZER;CN="SWIWC":MAILTO:Info@swiwc.org
END:VEVENT
END:VCALENDAR